BEGIN:VCALENDAR
VERSION:2.0
PRODID:-//The Doane Stuart School - ECPv6.15.20//NONSGML v1.0//EN
CALSCALE:GREGORIAN
METHOD:PUBLISH
X-WR-CALNAME:The Doane Stuart School
X-ORIGINAL-URL:https://www.doanestuart.org
X-WR-CALDESC:Events for The Doane Stuart School
REFRESH-INTERVAL;VALUE=DURATION:PT1H
X-Robots-Tag:noindex
X-PUBLISHED-TTL:PT1H
BEGIN:VTIMEZONE
TZID:America/New_York
BEGIN:DAYLIGHT
TZOFFSETFROM:-0500
TZOFFSETTO:-0400
TZNAME:EDT
DTSTART:20250309T070000
END:DAYLIGHT
BEGIN:STANDARD
TZOFFSETFROM:-0400
TZOFFSETTO:-0500
TZNAME:EST
DTSTART:20251102T060000
END:STANDARD
BEGIN:DAYLIGHT
TZOFFSETFROM:-0500
TZOFFSETTO:-0400
TZNAME:EDT
DTSTART:20260308T070000
END:DAYLIGHT
BEGIN:STANDARD
TZOFFSETFROM:-0400
TZOFFSETTO:-0500
TZNAME:EST
DTSTART:20261101T060000
END:STANDARD
BEGIN:DAYLIGHT
TZOFFSETFROM:-0500
TZOFFSETTO:-0400
TZNAME:EDT
DTSTART:20270314T070000
END:DAYLIGHT
BEGIN:STANDARD
TZOFFSETFROM:-0400
TZOFFSETTO:-0500
TZNAME:EST
DTSTART:20271107T060000
END:STANDARD
END:VTIMEZONE
BEGIN:VEVENT
DTSTART;TZID=America/New_York:20260225T120000
DTEND;TZID=America/New_York:20260225T140000
DTSTAMP:20260422T171541
CREATED:20250930T203439Z
LAST-MODIFIED:20260225T185040Z
UID:10000096-1772020800-1772028000@www.doanestuart.org
SUMMARY:Alumni Reception - Naples\, FL
DESCRIPTION:We will gather at 12:00 p.m. at Tulia Italian Steakhouse (Formerly The French)\, 365 5th Ave S\, Naples\, FL. All alumni are invited to join us for lunch and to hear an update on the wonderful things happening at Doane Stuart. Kindly RSVP by clicking here.\n\n\nPlease email Darlene Gallagher (dgallagher@doanestuart.org)\, Director of Development\, with any questions. We look forward to seeing you in Naples!
URL:https://www.doanestuart.org/event/alumni-reception-naples-fl/
LOCATION:Tulia Italian Steakhouse (Formerly The French)\, 365 5th Ave S\, Naples\, FL\, 365 5th Ave S\, Naples\, FL\, 34102\, United States
CATEGORIES:Alumni,Upcoming Events
ATTACH;FMTTYPE=image/png:https://eadn-wc03-15991172.nxedge.io/wp-content/uploads/2025/09/naples-alumni-gathering-4.png
END:VEVENT
END:VCALENDAR