BEGIN:VCALENDAR
VERSION:2.0
PRODID:-//The Doane Stuart School - ECPv6.15.20//NONSGML v1.0//EN
CALSCALE:GREGORIAN
METHOD:PUBLISH
X-ORIGINAL-URL:https://www.doanestuart.org
X-WR-CALDESC:Events for The Doane Stuart School
REFRESH-INTERVAL;VALUE=DURATION:PT1H
X-Robots-Tag:noindex
X-PUBLISHED-TTL:PT1H
BEGIN:VTIMEZONE
TZID:America/New_York
BEGIN:DAYLIGHT
TZOFFSETFROM:-0500
TZOFFSETTO:-0400
TZNAME:EDT
DTSTART:20250309T070000
END:DAYLIGHT
BEGIN:STANDARD
TZOFFSETFROM:-0400
TZOFFSETTO:-0500
TZNAME:EST
DTSTART:20251102T060000
END:STANDARD
BEGIN:DAYLIGHT
TZOFFSETFROM:-0500
TZOFFSETTO:-0400
TZNAME:EDT
DTSTART:20260308T070000
END:DAYLIGHT
BEGIN:STANDARD
TZOFFSETFROM:-0400
TZOFFSETTO:-0500
TZNAME:EST
DTSTART:20261101T060000
END:STANDARD
BEGIN:DAYLIGHT
TZOFFSETFROM:-0500
TZOFFSETTO:-0400
TZNAME:EDT
DTSTART:20270314T070000
END:DAYLIGHT
BEGIN:STANDARD
TZOFFSETFROM:-0400
TZOFFSETTO:-0500
TZNAME:EST
DTSTART:20271107T060000
END:STANDARD
END:VTIMEZONE
BEGIN:VEVENT
DTSTART;TZID=America/New_York:20260226T170000
DTEND;TZID=America/New_York:20260226T190000
DTSTAMP:20260422T173222
CREATED:20250930T203439Z
LAST-MODIFIED:20260226T230553Z
UID:10000097-1772125200-1772132400@www.doanestuart.org
SUMMARY:Alumni Reception - Vero Beach
DESCRIPTION:We will gather at 5:00 p.m. at The Oar Bar\, 1309 19th Pl\, Vero Beach. All alumni are invited to join us for dinner\, drinks and to hear an update on the wonderful things happening at Doane Stuart. Kindly RSVP by clicking here.\n\nPlease email Darlene Gallagher\, Director of Development\, with any questions. We look forward to seeing you in Vero Beach!
URL:https://www.doanestuart.org/event/alumni-reception-vero-beach/
LOCATION:The Oar Restaurant – 1309 19th Pl\, Vero Beach\, 1309 19th Pl\, Vero Beach\, Florida\, 32960
CATEGORIES:Alumni,Upcoming Events
ATTACH;FMTTYPE=image/png:https://eadn-wc03-15991172.nxedge.io/wp-content/uploads/2025/09/vero-beach-alumni-gathering-3.png
END:VEVENT
END:VCALENDAR