BEGIN:VCALENDAR
VERSION:2.0
PRODID:-//The Doane Stuart School - ECPv6.15.20//NONSGML v1.0//EN
CALSCALE:GREGORIAN
METHOD:PUBLISH
X-WR-CALNAME:The Doane Stuart School
X-ORIGINAL-URL:https://www.doanestuart.org
X-WR-CALDESC:Events for The Doane Stuart School
REFRESH-INTERVAL;VALUE=DURATION:PT1H
X-Robots-Tag:noindex
X-PUBLISHED-TTL:PT1H
BEGIN:VTIMEZONE
TZID:America/New_York
BEGIN:DAYLIGHT
TZOFFSETFROM:-0500
TZOFFSETTO:-0400
TZNAME:EDT
DTSTART:20240310T070000
END:DAYLIGHT
BEGIN:STANDARD
TZOFFSETFROM:-0400
TZOFFSETTO:-0500
TZNAME:EST
DTSTART:20241103T060000
END:STANDARD
BEGIN:DAYLIGHT
TZOFFSETFROM:-0500
TZOFFSETTO:-0400
TZNAME:EDT
DTSTART:20250309T070000
END:DAYLIGHT
BEGIN:STANDARD
TZOFFSETFROM:-0400
TZOFFSETTO:-0500
TZNAME:EST
DTSTART:20251102T060000
END:STANDARD
BEGIN:DAYLIGHT
TZOFFSETFROM:-0500
TZOFFSETTO:-0400
TZNAME:EDT
DTSTART:20260308T070000
END:DAYLIGHT
BEGIN:STANDARD
TZOFFSETFROM:-0400
TZOFFSETTO:-0500
TZNAME:EST
DTSTART:20261101T060000
END:STANDARD
END:VTIMEZONE
BEGIN:VEVENT
DTSTART;TZID=America/New_York:20251019T120000
DTEND;TZID=America/New_York:20251019T140000
DTSTAMP:20260423T075439
CREATED:20250930T203436Z
LAST-MODIFIED:20251019T173438Z
UID:10000094-1760875200-1760882400@www.doanestuart.org
SUMMARY:Reunion - Alumni Gathering
DESCRIPTION:
URL:https://www.doanestuart.org/event/reunion-alumni-gathering/
LOCATION:Indian Ladder Farms Cidery and Brewery\, 342 Altamont Rd\, Altamont\, NY\, United States
CATEGORIES:Alumni,Upcoming Events
GEO:42.655735;-73.974137
X-APPLE-STRUCTURED-LOCATION;VALUE=URI;X-ADDRESS=Indian Ladder Farms Cidery and Brewery 342 Altamont Rd Altamont NY United States;X-APPLE-RADIUS=500;X-TITLE=342 Altamont Rd:geo:-73.974137,42.655735
END:VEVENT
END:VCALENDAR